BEGIN:VCALENDAR
VERSION:2.0
PRODID:-//Tukios.com/
BEGIN:VEVENT
UID:fea612d6-6241-464d-87e1-c5a149627d74@www.eggersfh.com
DTSTAMP:20260423T231743Z
DTSTART:20260427T160000Z
DTEND:20260427T170000Z
SUMMARY:Funeral Service
DESCRIPTION:
URL:https://www.eggersfh.com/obituaries/morris-shelstad
LOCATION:Faith Lutheran Church 24 Oddin Avenue  New Effington SD 57255
GEO:45.8519915;-96.9179731
END:VEVENT
END:VCALENDAR