BEGIN:VCALENDAR
VERSION:2.0
PRODID:-//Tukios.com/
BEGIN:VEVENT
UID:ca73103f-756d-4313-bcbb-cda3cbefd151@www.eggersfh.com
DTSTAMP:20260423T231820Z
DTSTART:20260427T150000Z
DTEND:20260427T160000Z
SUMMARY:Visitation
DESCRIPTION:
URL:https://www.eggersfh.com/obituaries/morris-shelstad
LOCATION:Faith Lutheran Church 24 Oddin Avenue  New Effington SD 57255
GEO:45.8519915;-96.9179731
END:VEVENT
END:VCALENDAR